BEGIN:VCALENDAR
VERSION:2.0
PRODID:-//eventon.com NONSGML v1.0//EN
CALSCALE:GREGORIAN
METHOD:PUBLISH
BEGIN:VEVENT
UID:69e4df0015966
DTSTAMP:20260419T135616Z
DTSTART:20261108T060000Z
DTEND:20261108T080000Z
LOCATION:Church Building
SUMMARY:Water Baptism
DESCRIPTION:\nhttps://cosbt.org.sg/events/water-baptism-3/
URL:https://cosbt.org.sg/events/water-baptism-3/
END:VEVENT
END:VCALENDAR