BEGIN:VCALENDAR
VERSION:2.0
PRODID:-//eventon.com NONSGML v1.0//EN
CALSCALE:GREGORIAN
METHOD:PUBLISH
BEGIN:VEVENT
UID:69e9dd427577f
DTSTAMP:20260423T085010Z
DTSTART:20260718T090000Z
DTEND:20260719T044500Z
LOCATION:Church Building
SUMMARY:Missions Weekend
DESCRIPTION:\nhttps://cosbt.org.sg/events/missions-weekend-4/
URL:https://cosbt.org.sg/events/missions-weekend-4/
END:VEVENT
END:VCALENDAR