BEGIN:VCALENDAR
VERSION:2.0
PRODID:-//eventon.com NONSGML v1.0//EN
CALSCALE:GREGORIAN
METHOD:PUBLISH
BEGIN:VEVENT
UID:69e73956ee5ed
DTSTAMP:20260421T084614Z
DTSTART:20250615T000000Z
DTEND:20250618T235900Z
LOCATION:
SUMMARY:FOUND Camp
DESCRIPTION:Theme: TBC\nhttps://cosbt.org.sg/events/found-camp/
URL:https://cosbt.org.sg/events/found-camp/
END:VEVENT
END:VCALENDAR